BEGIN:VCALENDAR
VERSION:2.0
PRODID:-//wp-events-plugin.com//7.2.3.1//EN
TZID:America/Phoenix
X-WR-TIMEZONE:America/Phoenix
BEGIN:VEVENT
UID:22@santaritaart.org
DTSTART;TZID=America/Phoenix;VALUE=DATE:20250201
DTEND;TZID=America/Phoenix;VALUE=DATE:20250301
DTSTAMP:20241111T223807Z
URL:https://santaritaart.org/transfers/watercolor-sig/
SUMMARY:Watercolor SIG
DESCRIPTION:Santa Rita Art League invites you to view  artwork that exhibi
 ts the versatility of watercolor.
CATEGORIES:SIG Exhibits
LOCATION:Las Campanas Center\, 565 W Belltower Dr\, Green Valley\, AZ\, 856
 14\, United States
X-APPLE-STRUCTURED-LOCATION;VALUE=URI;X-ADDRESS=565 W Belltower Dr\, Green 
 Valley\, AZ\, 85614\, United States;X-APPLE-RADIUS=100;X-TITLE=Las Campana
 s Center:geo:0,0
END:VEVENT
BEGIN:VTIMEZONE
TZID:America/Phoenix
X-LIC-LOCATION:America/Phoenix
BEGIN:STANDARD
DTSTART:20240202T000000
TZOFFSETFROM:-0700
TZOFFSETTO:-0700
TZNAME:MST
END:STANDARD
END:VTIMEZONE
END:VCALENDAR