BEGIN:VCALENDAR
VERSION:2.0
PRODID:-//wp-events-plugin.com//7.2.3.1//EN
TZID:America/Phoenix
X-WR-TIMEZONE:America/Phoenix
BEGIN:VEVENT
UID:15@santaritaart.org
DTSTART;TZID=America/Phoenix;VALUE=DATE:20241110
DTEND;TZID=America/Phoenix;VALUE=DATE:20241201
DTSTAMP:20240817T183332Z
URL:https://santaritaart.org/transfers/eva-briggs-retro-exhibit/
SUMMARY:Eva Briggs Retro Exhibit at Canoa Hills Lobby
DESCRIPTION:This exhibits highlights paintings displayed in previous Eva Br
 iggs Abstract Art Competitions. All of the paintings are 36" x 36" and a v
 ariety of techniques were used to create many of them.
CATEGORIES:Open Shows
LOCATION:Canoa Hills\, 3660 S Camino Del Sol \, Green Valley\, AZ\, 85622\,
  United States
X-APPLE-STRUCTURED-LOCATION;VALUE=URI;X-ADDRESS=3660 S Camino Del Sol \, Gr
 een Valley\, AZ\, 85622\, United States;X-APPLE-RADIUS=100;X-TITLE=Canoa H
 ills:geo:0,0
END:VEVENT
BEGIN:VTIMEZONE
TZID:America/Phoenix
X-LIC-LOCATION:America/Phoenix
BEGIN:STANDARD
DTSTART:20231111T000000
TZOFFSETFROM:-0700
TZOFFSETTO:-0700
TZNAME:MST
END:STANDARD
END:VTIMEZONE
END:VCALENDAR