BEGIN:VCALENDAR
VERSION:2.0
PRODID:-//wp-events-plugin.com//7.2.3.1//EN
TZID:America/Phoenix
X-WR-TIMEZONE:America/Phoenix
BEGIN:VEVENT
UID:20@santaritaart.org
DTSTART;TZID=America/Phoenix;VALUE=DATE:20250130
DTEND;TZID=America/Phoenix;VALUE=DATE:20250301
DTSTAMP:20241111T220148Z
URL:https://santaritaart.org/transfers/eva-briggs-abstract-art-competition
 /
SUMMARY:Eva Briggs Abstract Art Competition
DESCRIPTION:\n\n\n\nThe Eva Briggs Abstract Art Competition is open to all 
 SRAL members and is a judged show\, which is held in February. This exhibi
 t was established by Eva Briggs with her bequest for twenty years of prize
 s to SRAL in 2003. She stipulated that all artwork entered must be abstrac
 t and created on a 36″ X 36″ substrate.\n\n\n\n
CATEGORIES:Exhibits
LOCATION:Community Performance and Art Center (CPAC)\, 1250 W Continental R
 d \, Green Valley\, AZ\, 85614\, United States
X-APPLE-STRUCTURED-LOCATION;VALUE=URI;X-ADDRESS=1250 W Continental Rd \, Gr
 een Valley\, AZ\, 85614\, United States;X-APPLE-RADIUS=100;X-TITLE=Communi
 ty Performance and Art Center (CPAC):geo:0,0
END:VEVENT
BEGIN:VTIMEZONE
TZID:America/Phoenix
X-LIC-LOCATION:America/Phoenix
BEGIN:STANDARD
DTSTART:20240131T000000
TZOFFSETFROM:-0700
TZOFFSETTO:-0700
TZNAME:MST
END:STANDARD
END:VTIMEZONE
END:VCALENDAR