BEGIN:VCALENDAR
VERSION:2.0
PRODID:-//wp-events-plugin.com//7.2.3.1//EN
TZID:America/Phoenix
X-WR-TIMEZONE:America/Phoenix
BEGIN:VEVENT
UID:3@santaritaart.org
DTSTART;TZID=America/Phoenix;VALUE=DATE:20240201
DTEND;TZID=America/Phoenix;VALUE=DATE:20240301
DTSTAMP:20231127T204942Z
URL:https://santaritaart.org/transfers/19th-annual-eva-briggs-abstract-art
 -competition/
SUMMARY:19th Annual Eva Briggs Abstract Art Competition at CPAC
DESCRIPTION:19th Annual Eva Briggs Abstract Art Competition\nThursday\, Feb
 ruary 1 – Thursday\, February 29\, 2024\nCo-Chairs: Hugh Beykirch and Ar
 lene Szypulski\nEntry forms and check due January 20\, 2024\nTo see more\,
  or register for this event\, please click here: \n&nbsp\;
CATEGORIES:Exhibits
END:VEVENT
BEGIN:VTIMEZONE
TZID:America/Phoenix
X-LIC-LOCATION:America/Phoenix
BEGIN:STANDARD
DTSTART:20230201T000000
TZOFFSETFROM:-0700
TZOFFSETTO:-0700
TZNAME:MST
END:STANDARD
END:VTIMEZONE
END:VCALENDAR